0.15000000000000
0.00000000000000
0.00000000000000
-0.15000000000000
649500.07499999995343
4559249.92499999981374
