0.15000000000000
0.00000000000000
0.00000000000000
-0.15000000000000
640500.07499999995343
4556249.92499999981374
