0.15000000000000
0.00000000000000
0.00000000000000
-0.15000000000000
632250.07499999995343
4547249.92499999981374
