0.15000000000000
0.00000000000000
0.00000000000000
-0.15000000000000
623250.07499999995343
4548749.92499999981374
