0.15000000000000
0.00000000000000
0.00000000000000
-0.15000000000000
621000.07499999995343
4547999.92499999981374
