0.0750000000
0.0000000000
0.0000000000
-0.0750000000
575032.0125000000
7789105.8375000004
