0.0750000000
0.0000000000
0.0000000000
-0.0750000000
573031.9125000000
7789105.8375000004
