0.0750000000
0.0000000000
0.0000000000
-0.0750000000
580032.2625000000
7790105.8875000002
