0.0750000000
0.0000000000
0.0000000000
-0.0750000000
578032.1625000000
7790105.8875000002
