0.0750000000
0.0000000000
0.0000000000
-0.0750000000
574031.9625000000
7790105.8875000002
