0.0750000000
0.0000000000
0.0000000000
-0.0750000000
581032.3125000000
7791105.9375000000
