0.0750000000
0.0000000000
0.0000000000
-0.0750000000
572031.8625000000
7791105.9375000000
