0.0750000000
0.0000000000
0.0000000000
-0.0750000000
575032.0125000000
7792105.9874999998
