0.0750000000
0.0000000000
0.0000000000
-0.0750000000
582032.3625000000
7793106.0374999996
