0.0750000000
0.0000000000
0.0000000000
-0.0750000000
573031.9125000000
7794106.0875000004
