0.0750000000
0.0000000000
0.0000000000
-0.0750000000
582032.3624999999
7795106.1375000002
