0.0750000000
0.0000000000
0.0000000000
-0.0750000000
577032.1125000000
7795106.1375000002
