0.0750000000
0.0000000000
0.0000000000
-0.0750000000
575032.0125000000
7795106.1375000002
