0.0750000000
0.0000000000
0.0000000000
-0.0750000000
576032.0625000000
7796106.1875000000
