0.5
0
0
-0.5
2405000.25
1289999.75
