0.5
0
0
-0.5
2377500.25
1362499.75
