0.5
0
0
-0.5
2365000.25
1299999.75
