0.3
0
0
-0.3
381000.15
4133999.85
