0.3
0
0
-0.3
363000.15
4130999.85
