<VRTDataset rasterXSize="456040" rasterYSize="156040"> <SRS dataAxisToSRSAxisMapping="1,2">PROJCS["NAD83(2011) / UTM zone 15N",GEOGCS["NAD83(2011)",DATUM["NAD83_National_Spatial_Reference_System_2011",SPHEROID["GRS 1980",6378137,298.257222101,AUTHORITY["EPSG","7019"]],AUTHORITY["EPSG","1116"]],PRIMEM["Greenwich",0,AUTHORITY["EPSG","8901"]],UNIT["degree",0.0174532925199433,AUTHORITY["EPSG","9122"]],AUTHORITY["EPSG","6318"]],PROJECTION["Transverse_Mercator"],PARAMETER["latitude_of_origin",0],PARAMETER["central_meridian",-93],PARAMETER["scale_factor",0.9996],PARAMETER["false_easting",500000],PARAMETER["false_northing",0],UNIT["metre",1,AUTHORITY["EPSG","9001"]],AXIS["Easting",EAST],AXIS["Northing",NORTH],AUTHORITY["EPSG","6344"]]</SRS> <GeoTransform> 6.8999500000000000e+05, 2.5000000000000000e-01, 0.0000000000000000e+00, 3.3420050000000000e+06, 0.0000000000000000e+00, -2.5000000000000000e-01</GeoTransform> <VRTRasterBand dataType="Byte" band="1"> <ColorInterp>Red</ColorInterp> <SimpleSource> <SourceFilename relativeToVRT="1">./690000e3336000n.tif</SourceFilename> <SourceBand>1</SourceBand> <SourceProperties RasterXSize="12040" RasterYSize="12040" DataType="Byte" BlockXSize="512" BlockYSize="512" /> <SrcRect xOff="0" yOff="0" xSize="12040" ySize="12040" /> <DstRect xOff="0" yOff="24000" xSize="12040" ySize="12040" /> </SimpleSource> <SimpleSource> <SourceFilename relativeToVRT="1">./690000e3339000n.tif</SourceFilename> <SourceBand>1</SourceBand> <SourceProperties RasterXSize="12040" RasterYSize="12040" DataType="Byte" BlockXSize="512" BlockYSize="512" /> <SrcRect xOff="0" yOff="0" xSize="12040" ySize="12040" /> <DstRect xOff="0" yOff="12000" xSize="12040" ySize="12040" /> </SimpleSource> <SimpleSource> <SourceFilename relativeToVRT="1">./693000e3333000n.tif</SourceFilename> <SourceBand>1</SourceBand> <SourceProperties RasterXSize="12040" RasterYSize="12040" DataType="Byte" BlockXSize="512" BlockYSize="512" /> <SrcRect xOff="0" yOff="0" xSize="12040" ySize="12040" /> <DstRect xOff="12000" yOff="36000" xSize="12040" ySize="12040" /> </SimpleSource> <SimpleSource> <SourceFilename relativeToVRT="1">./693000e3336000n.tif</SourceFilename> <SourceBand>1</SourceBand> <SourceProperties RasterXSize="12040" RasterYSize="12040" DataType="Byte" BlockXSize="512" BlockYSize="512" /> <SrcRect xOff="0" yOff="0" xSize="12040" ySize="12040" /> <DstRect xOff="12000" yOff="24000" xSize="12040" ySize="12040" /> </SimpleSource> <SimpleSource> <SourceFilename relativeToVRT="1">./693000e3339000n.tif</SourceFilename> <SourceBand>1</SourceBand> <SourceProperties RasterXSize="12040" RasterYSize="12040" DataType="Byte" BlockXSize="512" BlockYSize="512" /> <SrcRect xOff="0" yOff="0" xSize="12040" ySize="12040" /> <DstRect xOff="12000" yOff="12000" xSize="12040" ySize="12040" /> </SimpleSource> <SimpleSource> <SourceFilename relativeToVRT="1">./693000e3342000n.tif</SourceFilename> <SourceBand>1</SourceBand> <SourceProperties RasterXSize="12040" RasterYSize="12040" DataType="Byte" BlockXSize="512" BlockYSize="512" /> <SrcRect xOff="0" yOff="0" xSize="12040" ySize="12040" /> <DstRect xOff="12000" yOff="0" xSize="12040" ySize="12040" /> </SimpleSource> <SimpleSource> <SourceFilename relativeToVRT="1">./696000e3330000n.tif</SourceFilename> <SourceBand>1</SourceBand> <SourceProperties RasterXSize="12040" RasterYSize="12040" DataType="Byte" BlockXSize="512" BlockYSize="512" /> <SrcRect xOff="0" yOff="0" xSize="12040" ySize="12040" /> <DstRect xOff="24000" yOff="48000" xSize="12040" ySize="12040" /> </SimpleSource> <SimpleSource> <SourceFilename relativeToVRT="1">./696000e3333000n.tif</SourceFilename> <SourceBand>1</SourceBand> <SourceProperties RasterXSize="12040" RasterYSize="12040" DataType="Byte" BlockXSize="512" BlockYSize="512" /> <SrcRect xOff="0" yOff="0" xSize="12040" ySize="12040" /> <DstRect xOff="24000" yOff="36000" xSize="12040" ySize="12040" /> </SimpleSource> <SimpleSource> <SourceFilename relativeToVRT="1">./696000e3336000n.tif</SourceFilename> <SourceBand>1</SourceBand> <SourceProperties RasterXSize="12040" RasterYSize="12040" DataType="Byte" BlockXSize="512" BlockYSize="512" /> <SrcRect xOff="0" yOff="0" xSize="12040" ySize="12040" /> <DstRect xOff="24000" yOff="24000" xSize="12040" ySize="12040" /> </SimpleSource> <SimpleSource> <SourceFilename relativeToVRT="1">./696000e3339000n.tif</SourceFilename> <SourceBand>1</SourceBand> <SourceProperties RasterXSize="12040" RasterYSize="12040" DataType="Byte" BlockXSize="512" BlockYSize="512" /> <SrcRect xOff="0" yOff="0" xSize="12040" ySize="12040" /> <DstRect xOff="24000" yOff="12000" xSize="12040" ySize="12040" /> </SimpleSource> <SimpleSource> <SourceFilename relativeToVRT="1">./696000e3342000n.tif</SourceFilename> <SourceBand>1</SourceBand> <SourceProperties RasterXSize="12040" RasterYSize="12040" DataType="Byte" BlockXSize="512" BlockYSize="512" /> <SrcRect xOff="0" yOff="0" xSize="12040" ySize="12040" /> <DstRect xOff="24000" yOff="0" xSize="12040" ySize="12040" /> </SimpleSource> <SimpleSource> <SourceFilename relativeToVRT="1">./699000e3327000n.tif</SourceFilename> <SourceBand>1</SourceBand> <SourceProperties RasterXSize="12040" RasterYSize="12040" DataType="Byte" BlockXSize="512" BlockYSize="512" /> <SrcRect xOff="0" yOff="0" xSize="12040" ySize="12040" /> <DstRect xOff="36000" yOff="60000" xSize="12040" ySize="12040" /> </SimpleSource> <SimpleSource> <SourceFilename relativeToVRT="1">./699000e3330000n.tif</SourceFilename> <SourceBand>1</SourceBand> <SourceProperties RasterXSize="12040" RasterYSize="12040" DataType="Byte" BlockXSize="512" BlockYSize="512" /> <SrcRect xOff="0" yOff="0" xSize="12040" ySize="12040" /> <DstRect xOff="36000" yOff="48000" xSize="12040" ySize="12040" /> </SimpleSource> <SimpleSource> <SourceFilename relativeToVRT="1">./699000e3333000n.tif</SourceFilename> <SourceBand>1</SourceBand> <SourceProperties RasterXSize="12040" RasterYSize="12040" DataType="Byte" BlockXSize="512" BlockYSize="512" /> <SrcRect xOff="0" yOff="0" xSize="12040" ySize="12040" /> <DstRect xOff="36000" yOff="36000" xSize="12040" ySize="12040" /> </SimpleSource> <SimpleSource> <SourceFilename relativeToVRT="1">./699000e3336000n.tif</SourceFilename> <SourceBand>1</SourceBand> <SourceProperties RasterXSize="12040" RasterYSize="12040" DataType="Byte" BlockXSize="512" BlockYSize="512" /> <SrcRect xOff="0" yOff="0" xSize="12040" ySize="12040" /> <DstRect xOff="36000" yOff="24000" xSize="12040" ySize="12040" /> </SimpleSource> <SimpleSource> <SourceFilename relativeToVRT="1">./699000e3339000n.tif</SourceFilename> <SourceBand>1</SourceBand> <SourceProperties RasterXSize="12040" RasterYSize="12040" DataType="Byte" BlockXSize="512" BlockYSize="512" /> <SrcRect xOff="0" yOff="0" xSize="12040" ySize="12040" /> <DstRect xOff="36000" yOff="12000" xSize="12040" ySize="12040" /> </SimpleSource> <SimpleSource> <SourceFilename relativeToVRT="1">./702000e3327000n.tif</SourceFilename> <SourceBand>1</SourceBand> <SourceProperties RasterXSize="12040" RasterYSize="12040" DataType="Byte" BlockXSize="512" BlockYSize="512" /> <SrcRect xOff="0" yOff="0" xSize="12040" ySize="12040" /> <DstRect xOff="48000" yOff="60000" xSize="12040" ySize="12040" /> </SimpleSource> <SimpleSource> <SourceFilename relativeToVRT="1">./702000e3330000n.tif</SourceFilename> <SourceBand>1</SourceBand> <SourceProperties RasterXSize="12040" RasterYSize="12040" DataType="Byte" BlockXSize="512" BlockYSize="512" /> <SrcRect xOff="0" yOff="0" xSize="12040" ySize="12040" /> <DstRect xOff="48000" yOff="48000" xSize="12040" ySize="12040" /> </SimpleSource> <SimpleSource> <SourceFilename relativeToVRT="1">./702000e3333000n.tif</SourceFilename> <SourceBand>1</SourceBand> <SourceProperties RasterXSize="12040" RasterYSize="12040" DataType="Byte" BlockXSize="512" BlockYSize="512" /> <SrcRect xOff="0" yOff="0" xSize="12040" ySize="12040" /> <DstRect xOff="48000" yOff="36000" xSize="12040" ySize="12040" /> </SimpleSource> <SimpleSource> <SourceFilename relativeToVRT="1">./702000e3336000n.tif</SourceFilename> <SourceBand>1</SourceBand> <SourceProperties RasterXSize="12040" RasterYSize="12040" DataType="Byte" BlockXSize="512" BlockYSize="512" /> <SrcRect xOff="0" yOff="0" xSize="12040" ySize="12040" /> <DstRect xOff="48000" yOff="24000" xSize="12040" ySize="12040" /> </SimpleSource> <SimpleSource> <SourceFilename relativeToVRT="1">./705000e3318000n.tif</SourceFilename> <SourceBand>1</SourceBand> <SourceProperties RasterXSize="12040" RasterYSize="12040" DataType="Byte" BlockXSize="512" BlockYSize="512" /> <SrcRect xOff="0" yOff="0" xSize="12040" ySize="12040" /> <DstRect xOff="60000" yOff="96000" xSize="12040" ySize="12040" /> </SimpleSource> <SimpleSource> <SourceFilename relativeToVRT="1">./705000e3321000n.tif</SourceFilename> <SourceBand>1</SourceBand> <SourceProperties RasterXSize="12040" RasterYSize="12040" DataType="Byte" BlockXSize="512" BlockYSize="512" /> <SrcRect xOff="0" yOff="0" xSize="12040" ySize="12040" /> <DstRect xOff="60000" yOff="84000" xSize="12040" ySize="12040" /> </SimpleSource> <SimpleSource> <SourceFilename relativeToVRT="1">./705000e3324000n.tif</SourceFilename> <SourceBand>1</SourceBand> <SourceProperties RasterXSize="12040" RasterYSize="12040" DataType="Byte" BlockXSize="512" BlockYSize="512" /> <SrcRect xOff="0" yOff="0" xSize="12040" ySize="12040" /> <DstRect xOff="60000" yOff="72000" xSize="12040" ySize="12040" /> </SimpleSource> <SimpleSource> <SourceFilename relativeToVRT="1">./705000e3327000n.tif</SourceFilename> <SourceBand>1</SourceBand> <SourceProperties RasterXSize="12040" RasterYSize="12040" DataType="Byte" BlockXSize="512" BlockYSize="512" /> <SrcRect xOff="0" yOff="0" xSize="12040" ySize="12040" /> <DstRect xOff="60000" yOff="60000" xSize="12040" ySize="12040" /> </SimpleSource> <SimpleSource> <SourceFilename relativeToVRT="1">./705000e3330000n.tif</SourceFilename> <SourceBand>1</SourceBand> <SourceProperties RasterXSize="12040" RasterYSize="12040" DataType="Byte" BlockXSize="512" BlockYSize="512" /> <SrcRect xOff="0" yOff="0" xSize="12040" ySize="12040" /> <DstRect xOff="60000" yOff="48000" xSize="12040" ySize="12040" /> </SimpleSource> <SimpleSource> <SourceFilename relativeToVRT="1">./705000e3333000n.tif</SourceFilename> <SourceBand>1</SourceBand> <SourceProperties RasterXSize="12040" RasterYSize="12040" DataType="Byte" BlockXSize="512" BlockYSize="512" /> <SrcRect xOff="0" yOff="0" xSize="12040" ySize="12040" /> <DstRect xOff="60000" yOff="36000" xSize="12040" ySize="12040" /> </SimpleSource> <SimpleSource> <SourceFilename relativeToVRT="1">./708000e3318000n.tif</SourceFilename> <SourceBand>1</SourceBand> <SourceProperties RasterXSize="12040" RasterYSize="12040" DataType="Byte" BlockXSize="512" BlockYSize="512" /> <SrcRect xOff="0" yOff="0" xSize="12040" ySize="12040" /> <DstRect xOff="72000" yOff="96000" xSize="12040" ySize="12040" /> </SimpleSource> <SimpleSource> <SourceFilename relativeToVRT="1">./708000e3321000n.tif</SourceFilename> <SourceBand>1</SourceBand> <SourceProperties RasterXSize="12040" RasterYSize="12040" DataType="Byte" BlockXSize="512" BlockYSize="512" /> <SrcRect xOff="0" yOff="0" xSize="12040" ySize="12040" /> <DstRect xOff="72000" yOff="84000" xSize="12040" ySize="12040" /> </SimpleSource> <SimpleSource> <SourceFilename relativeToVRT="1">./708000e3324000n.tif</SourceFilename> <SourceBand>1</SourceBand> <SourceProperties RasterXSize="12040" RasterYSize="12040" DataType="Byte" BlockXSize="512" BlockYSize="512" /> <SrcRect xOff="0" yOff="0" xSize="12040" ySize="12040" /> <DstRect xOff="72000" yOff="72000" xSize="12040" ySize="12040" /> </SimpleSource> <SimpleSource> <SourceFilename relativeToVRT="1">./708000e3327000n.tif</SourceFilename> <SourceBand>1</SourceBand> <SourceProperties RasterXSize="12040" RasterYSize="12040" DataType="Byte" BlockXSize="512" BlockYSize="512" /> <SrcRect xOff="0" yOff="0" xSize="12040" ySize="12040" /> <DstRect xOff="72000" yOff="60000" xSize="12040" ySize="12040" /> </SimpleSource> <SimpleSource> <SourceFilename relativeToVRT="1">./708000e3330000n.tif</SourceFilename> <SourceBand>1</SourceBand> <SourceProperties RasterXSize="12040" RasterYSize="12040" DataType="Byte" BlockXSize="512" BlockYSize="512" /> <SrcRect xOff="0" yOff="0" xSize="12040" ySize="12040" /> <DstRect xOff="72000" yOff="48000" xSize="12040" ySize="12040" /> </SimpleSource> <SimpleSource> <SourceFilename relativeToVRT="1">./711000e3318000n.tif</SourceFilename> <SourceBand>1</SourceBand> <SourceProperties RasterXSize="12040" RasterYSize="12040" DataType="Byte" BlockXSize="512" BlockYSize="512" /> <SrcRect xOff="0" yOff="0" xSize="12040" ySize="12040" /> <DstRect xOff="84000" yOff="96000" xSize="12040" ySize="12040" /> </SimpleSource> <SimpleSource> <SourceFilename relativeToVRT="1">./711000e3321000n.tif</SourceFilename> <SourceBand>1</SourceBand> <SourceProperties RasterXSize="12040" RasterYSize="12040" DataType="Byte" BlockXSize="512" BlockYSize="512" /> <SrcRect xOff="0" yOff="0" xSize="12040" ySize="12040" /> <DstRect xOff="84000" yOff="84000" xSize="12040" ySize="12040" /> </SimpleSource> <SimpleSource> <SourceFilename relativeToVRT="1">./711000e3324000n.tif</SourceFilename> <SourceBand>1</SourceBand> <SourceProperties RasterXSize="12040" RasterYSize="12040" DataType="Byte" BlockXSize="512" BlockYSize="512" /> <SrcRect xOff="0" yOff="0" xSize="12040" ySize="12040" /> <DstRect xOff="84000" yOff="72000" xSize="12040" ySize="12040" /> </SimpleSource> <SimpleSource> <SourceFilename relativeToVRT="1">./711000e3327000n.tif</SourceFilename> <SourceBand>1</SourceBand> <SourceProperties RasterXSize="12040" RasterYSize="12040" DataType="Byte" BlockXSize="512" BlockYSize="512" /> <SrcRect xOff="0" yOff="0" xSize="12040" ySize="12040" /> <DstRect xOff="84000" yOff="60000" xSize="12040" ySize="12040" /> </SimpleSource> <SimpleSource> <SourceFilename relativeToVRT="1">./714000e3321000n.tif</SourceFilename> <SourceBand>1</SourceBand> <SourceProperties RasterXSize="12040" RasterYSize="12040" DataType="Byte" BlockXSize="512" BlockYSize="512" /> <SrcRect xOff="0" yOff="0" xSize="12040" ySize="12040" /> <DstRect xOff="96000" yOff="84000" xSize="12040" ySize="12040" /> </SimpleSource> <SimpleSource> <SourceFilename relativeToVRT="1">./714000e3324000n.tif</SourceFilename> <SourceBand>1</SourceBand> <SourceProperties RasterXSize="12040" RasterYSize="12040" DataType="Byte" BlockXSize="512" BlockYSize="512" /> <SrcRect xOff="0" yOff="0" xSize="12040" ySize="12040" /> <DstRect xOff="96000" yOff="72000" xSize="12040" ySize="12040" /> </SimpleSource> <SimpleSource> <SourceFilename relativeToVRT="1">./714000e3327000n.tif</SourceFilename> <SourceBand>1</SourceBand> <SourceProperties RasterXSize="12040" RasterYSize="12040" DataType="Byte" BlockXSize="512" BlockYSize="512" /> <SrcRect xOff="0" yOff="0" xSize="12040" ySize="12040" /> <DstRect xOff="96000" yOff="60000" xSize="12040" ySize="12040" /> </SimpleSource> <SimpleSource> <SourceFilename relativeToVRT="1">./717000e3321000n.tif</SourceFilename> <SourceBand>1</SourceBand> <SourceProperties RasterXSize="12040" RasterYSize="12040" DataType="Byte" BlockXSize="512" BlockYSize="512" /> <SrcRect xOff="0" yOff="0" xSize="12040" ySize="12040" /> <DstRect xOff="108000" yOff="84000" xSize="12040" ySize="12040" /> </SimpleSource> <SimpleSource> <SourceFilename relativeToVRT="1">./717000e3324000n.tif</SourceFilename> <SourceBand>1</SourceBand> <SourceProperties RasterXSize="12040" RasterYSize="12040" DataType="Byte" BlockXSize="512" BlockYSize="512" /> <SrcRect xOff="0" yOff="0" xSize="12040" ySize="12040" /> <DstRect xOff="108000" yOff="72000" xSize="12040" ySize="12040" /> </SimpleSource> <SimpleSource> <SourceFilename relativeToVRT="1">./717000e3327000n.tif</SourceFilename> <SourceBand>1</SourceBand> <SourceProperties RasterXSize="12040" RasterYSize="12040" DataType="Byte" BlockXSize="512" BlockYSize="512" /> <SrcRect xOff="0" yOff="0" xSize="12040" ySize="12040" /> <DstRect xOff="108000" yOff="60000" xSize="12040" ySize="12040" /> </SimpleSource> <SimpleSource> <SourceFilename relativeToVRT="1">./720000e3321000n.tif</SourceFilename> <SourceBand>1</SourceBand> <SourceProperties RasterXSize="12040" RasterYSize="12040" DataType="Byte" BlockXSize="512" BlockYSize="512" /> <SrcRect xOff="0" yOff="0" xSize="12040" ySize="12040" /> <DstRect xOff="120000" yOff="84000" xSize="12040" ySize="12040" /> </SimpleSource> <SimpleSource> <SourceFilename relativeToVRT="1">./720000e3324000n.tif</SourceFilename> <SourceBand>1</SourceBand> <SourceProperties RasterXSize="12040" RasterYSize="12040" DataType="Byte" BlockXSize="512" BlockYSize="512" /> <SrcRect xOff="0" yOff="0" xSize="12040" ySize="12040" /> <DstRect xOff="120000" yOff="72000" xSize="12040" ySize="12040" /> </SimpleSource> <SimpleSource> <SourceFilename relativeToVRT="1">./720000e3327000n.tif</SourceFilename> <SourceBand>1</SourceBand> <SourceProperties RasterXSize="12040" RasterYSize="12040" DataType="Byte" BlockXSize="512" BlockYSize="512" /> <SrcRect xOff="0" yOff="0" xSize="12040" ySize="12040" /> <DstRect xOff="120000" yOff="60000" xSize="12040" ySize="12040" /> </SimpleSource> <SimpleSource> <SourceFilename relativeToVRT="1">./720000e3330000n.tif</SourceFilename> <SourceBand>1</SourceBand> <SourceProperties RasterXSize="12040" RasterYSize="12040" DataType="Byte" BlockXSize="512" BlockYSize="512" /> <SrcRect xOff="0" yOff="0" xSize="12040" ySize="12040" /> <DstRect xOff="120000" yOff="48000" xSize="12040" ySize="12040" /> </SimpleSource> <SimpleSource> <SourceFilename relativeToVRT="1">./723000e3324000n.tif</SourceFilename> <SourceBand>1</SourceBand> <SourceProperties RasterXSize="12040" RasterYSize="12040" DataType="Byte" BlockXSize="512" BlockYSize="512" /> <SrcRect xOff="0" yOff="0" xSize="12040" ySize="12040" /> <DstRect xOff="132000" yOff="72000" xSize="12040" ySize="12040" /> </SimpleSource> <SimpleSource> <SourceFilename relativeToVRT="1">./723000e3327000n.tif</SourceFilename> <SourceBand>1</SourceBand> <SourceProperties RasterXSize="12040" RasterYSize="12040" DataType="Byte" BlockXSize="512" BlockYSize="512" /> <SrcRect xOff="0" yOff="0" xSize="12040" ySize="12040" /> <DstRect xOff="132000" yOff="60000" xSize="12040" ySize="12040" /> </SimpleSource> <SimpleSource> <SourceFilename relativeToVRT="1">./723000e3330000n.tif</SourceFilename> <SourceBand>1</SourceBand> <SourceProperties RasterXSize="12040" RasterYSize="12040" DataType="Byte" BlockXSize="512" BlockYSize="512" /> <SrcRect xOff="0" yOff="0" xSize="12040" ySize="12040" /> <DstRect xOff="132000" yOff="48000" xSize="12040" ySize="12040" /> </SimpleSource> <SimpleSource> <SourceFilename relativeToVRT="1">./726000e3324000n.tif</SourceFilename> <SourceBand>1</SourceBand> <SourceProperties RasterXSize="12040" RasterYSize="12040" DataType="Byte" BlockXSize="512" BlockYSize="512" /> <SrcRect xOff="0" yOff="0" xSize="12040" ySize="12040" /> <DstRect xOff="144000" yOff="72000" xSize="12040" ySize="12040" /> </SimpleSource> <SimpleSource> <SourceFilename relativeToVRT="1">./726000e3327000n.tif</SourceFilename> <SourceBand>1</SourceBand> <SourceProperties RasterXSize="12040" RasterYSize="12040" DataType="Byte" BlockXSize="512" BlockYSize="512" /> <SrcRect xOff="0" yOff="0" xSize="12040" ySize="12040" /> <DstRect xOff="144000" yOff="60000" xSize="12040" ySize="12040" /> </SimpleSource> <SimpleSource> <SourceFilename relativeToVRT="1">./726000e3330000n.tif</SourceFilename> <SourceBand>1</SourceBand> <SourceProperties RasterXSize="12040" RasterYSize="12040" DataType="Byte" BlockXSize="512" BlockYSize="512" /> <SrcRect xOff="0" yOff="0" xSize="12040" ySize="12040" /> <DstRect xOff="144000" yOff="48000" xSize="12040" ySize="12040" /> </SimpleSource> <SimpleSource> <SourceFilename relativeToVRT="1">./729000e3324000n.tif</SourceFilename> <SourceBand>1</SourceBand> <SourceProperties RasterXSize="12040" RasterYSize="12040" DataType="Byte" BlockXSize="512" BlockYSize="512" /> <SrcRect xOff="0" yOff="0" xSize="12040" ySize="12040" /> <DstRect xOff="156000" yOff="72000" xSize="12040" ySize="12040" /> </SimpleSource> <SimpleSource> <SourceFilename relativeToVRT="1">./732000e3324000n.tif</SourceFilename> <SourceBand>1</SourceBand> <SourceProperties RasterXSize="12040" RasterYSize="12040" DataType="Byte" BlockXSize="512" BlockYSize="512" /> <SrcRect xOff="0" yOff="0" xSize="12040" ySize="12040" /> <DstRect xOff="168000" yOff="72000" xSize="12040" ySize="12040" /> </SimpleSource> <SimpleSource> <SourceFilename relativeToVRT="1">./732000e3327000n.tif</SourceFilename> <SourceBand>1</SourceBand> <SourceProperties RasterXSize="12040" RasterYSize="12040" DataType="Byte" BlockXSize="512" BlockYSize="512" /> <SrcRect xOff="0" yOff="0" xSize="12040" ySize="12040" /> <DstRect xOff="168000" yOff="60000" xSize="12040" ySize="12040" /> </SimpleSource> <SimpleSource> <SourceFilename relativeToVRT="1">./732000e3330000n.tif</SourceFilename> <SourceBand>1</SourceBand> <SourceProperties RasterXSize="12040" RasterYSize="12040" DataType="Byte" BlockXSize="512" BlockYSize="512" /> <SrcRect xOff="0" yOff="0" xSize="12040" ySize="12040" /> <DstRect xOff="168000" yOff="48000" xSize="12040" ySize="12040" /> </SimpleSource> <SimpleSource> <SourceFilename relativeToVRT="1">./732000e3333000n.tif</SourceFilename> <SourceBand>1</SourceBand> <SourceProperties RasterXSize="12040" RasterYSize="12040" DataType="Byte" BlockXSize="512" BlockYSize="512" /> <SrcRect xOff="0" yOff="0" xSize="12040" ySize="12040" /> <DstRect xOff="168000" yOff="36000" xSize="12040" ySize="12040" /> </SimpleSource> <SimpleSource> <SourceFilename relativeToVRT="1">./735000e3327000n.tif</SourceFilename> <SourceBand>1</SourceBand> <SourceProperties RasterXSize="12040" RasterYSize="12040" DataType="Byte" BlockXSize="512" BlockYSize="512" /> <SrcRect xOff="0" yOff="0" xSize="12040" ySize="12040" /> <DstRect xOff="180000" yOff="60000" xSize="12040" ySize="12040" /> </SimpleSource> <SimpleSource> <SourceFilename relativeToVRT="1">./735000e3330000n.tif</SourceFilename> <SourceBand>1</SourceBand> <SourceProperties RasterXSize="12040" RasterYSize="12040" DataType="Byte" BlockXSize="512" BlockYSize="512" /> <SrcRect xOff="0" yOff="0" xSize="12040" ySize="12040" /> <DstRect xOff="180000" yOff="48000" xSize="12040" ySize="12040" /> </SimpleSource> <SimpleSource> <SourceFilename relativeToVRT="1">./735000e3333000n.tif</SourceFilename> <SourceBand>1</SourceBand> <SourceProperties RasterXSize="12040" RasterYSize="12040" DataType="Byte" BlockXSize="512" BlockYSize="512" /> <SrcRect xOff="0" yOff="0" xSize="12040" ySize="12040" /> <DstRect xOff="180000" yOff="36000" xSize="12040" ySize="12040" /> </SimpleSource> <SimpleSource> <SourceFilename relativeToVRT="1">./738000e3324000n.tif</SourceFilename> <SourceBand>1</SourceBand> <SourceProperties RasterXSize="12040" RasterYSize="12040" DataType="Byte" BlockXSize="512" BlockYSize="512" /> <SrcRect xOff="0" yOff="0" xSize="12040" ySize="12040" /> <DstRect xOff="192000" yOff="72000" xSize="12040" ySize="12040" /> </SimpleSource> <SimpleSource> <SourceFilename relativeToVRT="1">./738000e3327000n.tif</SourceFilename> <SourceBand>1</SourceBand> <SourceProperties RasterXSize="12040" RasterYSize="12040" DataType="Byte" BlockXSize="512" BlockYSize="512" /> <SrcRect xOff="0" yOff="0" xSize="12040" ySize="12040" /> <DstRect xOff="192000" yOff="60000" xSize="12040" ySize="12040" /> </SimpleSource> <SimpleSource> <SourceFilename relativeToVRT="1">./738000e3330000n.tif</SourceFilename> <SourceBand>1</SourceBand> <SourceProperties RasterXSize="12040" RasterYSize="12040" DataType="Byte" BlockXSize="512" BlockYSize="512" /> <SrcRect xOff="0" yOff="0" xSize="12040" ySize="12040" /> <DstRect xOff="192000" yOff="48000" xSize="12040" ySize="12040" /> </SimpleSource> <SimpleSource> <SourceFilename relativeToVRT="1">./738000e3333000n.tif</SourceFilename> <SourceBand>1</SourceBand> <SourceProperties RasterXSize="12040" RasterYSize="12040" DataType="Byte" BlockXSize="512" BlockYSize="512" /> <SrcRect xOff="0" yOff="0" xSize="12040" ySize="12040" /> <DstRect xOff="192000" yOff