0.25
0
0
-0.25
421500.125
4587499.875
