0.25
0
0
-0.25
421500.125
4569999.875
