0.25
0
0
-0.25
419000.125
4572499.875
