0.25
0
0
-0.25
416500.125
4567499.875
