0.25
0
0
-0.25
416500.125
4559999.875
