0.25
0
0
-0.25
411500.125
4589999.875
