0.25
0
0
-0.25
411500.125
4587499.875
