0.25
0
0
-0.25
409000.125
4574999.875
