0.25
0
0
-0.25
409000.125
4564999.875
