0.25
0
0
-0.25
406500.125
4574999.875
