0.25
0
0
-0.25
404000.125
4567499.875
