0.25
0
0
-0.25
401500.125
4574999.875
