0.25
0
0
-0.25
391500.125
4584999.875
