0.25
0
0
-0.25
389000.125
4569999.875
