0.25
0
0
-0.25
386500.125
4579999.875
