0.25
0
0
-0.25
384000.125
4569999.875
