0.25
0
0
-0.25
376500.125
4572499.875
