0.25
0
0
-0.25
376500.125
4569999.875
