0.25
0
0
-0.25
374000.125
4574999.875
