0.25
0
0
-0.25
369000.125
4587499.875
