0.25
0
0
-0.25
369000.125
4584999.875
