0.25
0
0
-0.25
366500.125
4592499.875
