0.25
0
0
-0.25
364000.125
4589999.875
