0.25
0
0
-0.25
361500.12499
4589999.875
