0.25
0
0
-0.25
359000.12499
4589999.875
